BEGIN:VCALENDAR
VERSION:2.0
PRODID:-//northernth.com - ECPv6.15.20//NONSGML v1.0//EN
CALSCALE:GREGORIAN
METHOD:PUBLISH
X-WR-CALNAME:northernth.com
X-ORIGINAL-URL:https://northernth.com
X-WR-CALDESC:Events for northernth.com
REFRESH-INTERVAL;VALUE=DURATION:PT1H
X-Robots-Tag:noindex
X-PUBLISHED-TTL:PT1H
BEGIN:VTIMEZONE
TZID:Asia/Krasnoyarsk
BEGIN:STANDARD
TZOFFSETFROM:+0700
TZOFFSETTO:+0700
TZNAME:+07
DTSTART:20240101T000000
END:STANDARD
END:VTIMEZONE
BEGIN:VEVENT
DTSTART;TZID=Asia/Krasnoyarsk:20251230T173000
DTEND;TZID=Asia/Krasnoyarsk:20251231T003000
DTSTAMP:20260421T202913
CREATED:20251124T073451Z
LAST-MODIFIED:20251203T102858Z
UID:6960-1767115800-1767141000@northernth.com
SUMMARY:Chiang Mai CAD New Year Countdown 2026
DESCRIPTION:ร่วมเฉลิมฉลองค่ำคืนส่งท้ายปีเก่าต้อนรับปีใหม่ 2026 ที่ยิ่งใหญ่ที่สุดในภาคเหนือ ณ The CAD Cultural Center Lanna สัมผัสประสบการณ์อันน่าประทับใจภายใต้ธีม “Light of Faith 730 Years Glory of Lanna” พร้อมไฮไลท์สำคัญที่คุณห้ามพลาด! \n\n\nภาพจากChiang Mai CADภาพจาก: Chiang Mai CADภาพจาก: Chiang Mai CADภาพจาก: Chiang Mai CADภาพจาก: Chiang Mai CADภาพจาก: Chiang Mai CAD\n\n\nไฮไลท์สำคัญของงาน\n\n\n\n\nพลุไฟปีใหม่สุดอลังการ: ชมมหกรรมพลุไฟที่ยิ่งใหญ่ที่สุดในภาคเหนือ\n\n\n\nพิธีปล่อยโคมลอยล้านนา: ร่วมปล่อยโคมลอยนับพันดวงพร้อมกัน (รวมโคมลอย 2 อัน/ท่าน)\n\n\n\nบุฟเฟต์ดินเนอร์: อิ่มอร่อยกับอาหารล้านนา-ไทย และนานาชาติ\n\n\n\nการแสดงวัฒนธรรม: ชมดนตรีออร์เคสตราล้านนาและการแสดงสุดอลังการ\n\n\n\n\nราคาบัตรและลิงก์สำหรับซื้อตั๋ว\n\n\n\nวันจัดงาน: 30-31 ธันวาคม 2025 \n\n\n\nสถานที่: The CAD Cultural Center Lanna \n\n\n\nประเภทบัตรราคา (บาท)สิทธิประโยชน์หลักStandard Seat฿4\,800รวมบุฟเฟต์\, โคมลอย\, รถรับ-ส่ง (รถสองแถว)VIP Seat฿6\,400รวมบุฟเฟต์\, โคมลอย\, รถรับ-ส่ง (รถตู้ปรับอากาศ)Premium Seat฿6\,900ที่นั่งใกล้เวทีที่สุด (รถตู้ปรับอากาศ)Elite Seat฿15\,500ที่นั่งมุมสูงที่ดีที่สุด (รถตู้ปรับอากาศ)Observer฿159เข้าชมพลุโซนสวนสนุก (ไม่รวมบุฟเฟต์/โคมลอย)Lanna Shabu฿3\,000ชุดหมูจุ่มสไตล์ล้านนา และปล่อยโคมได้ 2 ใบ (โซนจำกัด)\n\n\n\nคลิกเพื่อจองตั๋วทันที!\n\n\n\nNorthernth.com (เว็บไซต์หลักของเรา): \n\n\n\n\nบัตรเทศกาลโคมลอย Chiangmai CAD New Year Countdown 2026\n\n\n\n\nกำหนดการคร่าวๆ (31 ธ.ค. 2568)\n\n\n\n\n17:30 – 18:45 น.: บริการรถรับ-ส่ง\n\n\n\n18:30 – 20:00 น.: บุฟเฟต์ดินเนอร์ และกิจกรรม CAD Village\n\n\n\n20:30 – 23:30 น.: การแสดงหลักสุดอลังการ\n\n\n\n23:30 – 00:30 น.: นับถอยหลัง\, ปล่อยโคมลอย\, ชมพลุไฟปีใหม่!\n\n\n\n00:30 น. เป็นต้นไป: บริการรถรับ-ส่งกลับ
URL:https://northernth.com/events/chiangmai-cad-new-year-countdown-2026/
ATTACH;FMTTYPE=image/webp:https://northernth.com/wp-content/uploads/2025/11/Chiang-Mai-CAD-New-year-20268532608869197364912.webp
END:VEVENT
BEGIN:VEVENT
DTSTART;VALUE=DATE:20251220
DTEND;VALUE=DATE:20251221
DTSTAMP:20260421T202913
CREATED:20250416T145158Z
LAST-MODIFIED:20250916T091023Z
UID:4608-1766188800-1766275199@northernth.com
SUMMARY:COCKTAIL 77 EVER TOUR | เชียงใหม่ - ลานม่วนใจ๋ เซ็นทรัล เชียงใหม่ แอร์พอร์ต
DESCRIPTION:COCKTAIL 77 EVER TOUR | เชียงใหม่ – ลานม่วนใจ๋ เซ็นทรัล เชียงใหม่ แอร์พอร์ต \n📍 ลานม่วนใจ๋ เซ็นทรัล เชียงใหม่ แอร์พอร์ต \n📅 วันเสาร์ที่ 20 ธันวาคม 2568 \n⏰ เวลา 17.00 น. \n🎫 ซื้อบัตรที่ https://www.eventpop.me/e/82903/cocktail77evertour-chiangmai \n📌 หมายเหตุ: บัตรราคาพิเศษ Early Bird เปิดขายแล้ว \n💬 แฟนๆ COCKTAIL ชาวเชียงใหม่ ห้ามพลาด! \n  \n[envira-gallery id=”4612″]
URL:https://northernth.com/events/cocktail77evertour-chiangmai/
LOCATION:เซ็นทรัล เชียงใหม่ แอร์พอร์ต\, QX9G+J4P ตำบลป่าแดด อำเภอเมืองเชียงใหม่ เชียงใหม่\, เมืองเชียงใหม่\, เชียงใหม่\, 50200\, Thailand
CATEGORIES:Concert & Music
ATTACH;FMTTYPE=image/jpeg:https://northernth.com/wp-content/uploads/2025/04/489e2c72136ed7d29977471ba41d289b8e7a53ef.webp
END:VEVENT
BEGIN:VEVENT
DTSTART;TZID=Asia/Krasnoyarsk:20251219T000000
DTEND;TZID=Asia/Krasnoyarsk:20251219T235959
DTSTAMP:20260421T202913
CREATED:20250416T144519Z
LAST-MODIFIED:20251203T135931Z
UID:4600-1766102400-1766188799@northernth.com
SUMMARY:COCKTAIL 77 EVER TOUR | แม่ฮ่องสอน - ROMANCE FARM PAI
DESCRIPTION:Chiang Mai CAD New Year Countdown 2026\n\n\n\n\n\n\n\n\n30/ธันวาคม/2025 @ 17:30 น. – 31/ธันวาคม/2025 @ 0:30 น.\n\n\n\n\n\n\n\n\n\n\n\n\nCOCKTAIL 77 EVER TOUR | แม่ฮ่องสอน(ปาย) – ROMANCE FARM PAI \n\n\n\n📍 ROMANCE FARM PAI\, ปาย \n\n\n\n📅 วันศุกร์ที่ 19 ธันวาคม 2568 \n\n\n\n⏰ เวลา 17.00 น. \n\n\n\n🎫 ซื้อบัตรที่ https://www.eventpop.me/e/82960/cocktail77evertour-maehongson \n\n\n\n📌 หมายเหตุ: บัตร Early Bird\, Regular และ VIP มีจำนวนจำกัด \n\n\n\n💬 เตรียมตัวให้พร้อม แล้วมาสนุกไปด้วยกันกับ COCKTAIL ในบรรยากาศสุดโรแมนติกของปาย
URL:https://northernth.com/events/cocktail77evertour-maehongson-pai/
LOCATION:ROMANCE FARM PAI\, 9CJX+MWV\, โรแมนซ์ฟาร์ม\, Unnamed Road ตำบล เวียงเหนือ อำเภอปาย แม่ฮ่องสอน 58130\, ปาย\, แม่ฮ่องสอน\, 58130\, Thailand
CATEGORIES:Concert & Music
ATTACH;FMTTYPE=image/jpeg:https://northernth.com/wp-content/uploads/2025/04/2d57636aabfe5492dcd056e4a4fc1c7632298b6c.webp
END:VEVENT
BEGIN:VEVENT
DTSTART;TZID=Asia/Krasnoyarsk:20250918T160000
DTEND;TZID=Asia/Krasnoyarsk:20250919T200000
DTSTAMP:20260421T202913
CREATED:20250916T085345Z
LAST-MODIFIED:20250920T024501Z
UID:6154-1758211200-1758312000@northernth.com
SUMMARY:Dogs & Friends “Garden Party”
DESCRIPTION:มาเพลิดเพลินกับปาร์ตี้ในสวนสำหรับคนรักสัตว์เลี้ยงที่ “Dogs & Friends Garden Party” งานที่ครบครันทั้งความสนุก ความรู้ และของอร่อยสำหรับน้องหมาน้องแมวและเจ้าของ \n\n\n\nมาเพลิดเพลินกับปาร์ตี้ในสวนสำหรับคนรักสัตว์เลี้ยงที่ “Dogs & Friends Garden Party” งานที่ครบครันทั้งความสนุก ความรู้ และของอร่อยสำหรับน้องหมาน้องแมวและเจ้าของ \n\n\n\nพบกันวันพฤหัสบดีที่ 18 และวันศุกร์ที่ 19 กันยายน 2568 ตั้งแต่เวลา 16.00 – 20.00 น. ที่ลานก้ามปู โครงการจริงใจมาร์เก็ต \n\n\n\nกิจกรรมไฮไลต์ห้ามพลาด!\n\n\n\n\nตรวจสุขภาพฟรี: บูธตรวจสุขภาพน้องหมาน้องแมวโดย โรงพยาบาลสัตว์ โคซี่ แอนด์ แคร์ 24 ชั่วโมง\n\n\n\nประกวดน้องหมาฟันสวย: โอกาสให้น้องหมาได้โชว์รอยยิ้มที่สดใสที่สุดเพื่อชิงรางวัล\n\n\n\nกิจกรรมพูดคุยให้ความรู้ (17.00 – 17.30 น.):\n\nพฤหัสบดีที่ 18 ก.ย. 68: “การฉีดวัคซีนน้องหมาน้องแมว”\n\n\n\nศุกร์ที่ 19 ก.ย. 68: “การทำหมันน้องหมาน้องแมว”\n\n\n\n\n\n\nความสนุกอื่น ๆ ที่รออยู่\n\n\n\n\nเวิร์คช้อปเพ้นท์เฟรมภาพ: วาดภาพคู่กับเพื่อนรักสี่ขา\n\n\n\nเกมสนุก ๆ: ลุ้นของรางวัลสำหรับน้องหมาและเจ้าของ\n\n\n\nช้อปเพลิน: เลือกซื้อสินค้าและไอเท็มสุดน่ารักสำหรับสัตว์เลี้ยง\n\n\n\nอิ่มอร่อย: บูธอาหาร ขนม และเครื่องดื่มหลากหลาย\n\n\n\n\nปาร์ตี้สุดน่ารักที่ทั้งเจ้าของและเพื่อนขนฟูจะได้มาใช้เวลาร่วมกันอย่างมีความสุข!
URL:https://northernth.com/events/dogs-friends-garden-party/
LOCATION:Jing Jai Market Chiang Mai\, 46 ถนน อัษฎาธร\, ตำบลป่าตัน อำเภอเมืองเชียงใหม่\, 50300\, Thailand
CATEGORIES:Charity & Community,Workshop & Seminar
ATTACH;FMTTYPE=image/webp:https://northernth.com/wp-content/uploads/2025/09/Dogs-Friends-Garden-Party_1448_2048.webp
ORGANIZER;CN="Jing Jai Market Chiang Mai":MAILTO:infojingjaicm@central.co.th
END:VEVENT
BEGIN:VEVENT
DTSTART;TZID=Asia/Krasnoyarsk:20250208T100000
DTEND;TZID=Asia/Krasnoyarsk:20250208T233000
DTSTAMP:20260421T202913
CREATED:20250203T164616Z
LAST-MODIFIED:20250203T165700Z
UID:3509-1739008800-1739057400@northernth.com
SUMMARY:CAT EXPO เชียงใหม่
DESCRIPTION:CAT EXPO เชียงใหม่ \nฮักตั๋วนะ… เตรียมตัวให้พร้อมสำหรับคอนเสิร์ตในเดือนแห่งความรัก! 1 วัน 2 เวทีเต็มอิ่มไปกับศิลปินที่คุณรัก! \n🗓️ วันที่ 8 กุมภาพันธ์ 2568 \n📌 ลานม่วนใจ๋\, Central Chiangmai Airport \n💥 บัตรราคา 600 บาท (จากราคาเต็ม 900 บาท) \nเริ่มขายตั้งแต่ 25 ธันวาคม ถึง 2 มกราคม 2568 ที่ The Concert \nศิลปินที่ร่วมคอนเสิร์ต: \n🎤 DICE \n🎸 NANON \n🎤 JAMES ALYN \n🎶 MOVING AND CUT \n🎵 IMAGE SUTHITA \n🎧 SOLITUDE IS BLISS \n🎤 TOFU \n🎵 MEK SIPPANUN FEAT. TANANTANA \n🎶 _LESS \n🎤 JŪJI \n🎵 FLOWER.FAR \n🎤 TELEVISION OFF \n🎶 ASIA7 \nนอกจากนี้ยังมีเพลงไทยจากศิลปินและค่ายเพลงดัง! \nติดตามรายละเอียดเพิ่มเติมที่: \n🌐 www.thisiscat.com \n📱 facebook.com/thisiscatradio \n#CATEXPOเชียงใหม่ #CatRadio
URL:https://northernth.com/events/cat-expo-%e0%b9%80%e0%b8%8a%e0%b8%b5%e0%b8%a2%e0%b8%87%e0%b9%83%e0%b8%ab%e0%b8%a1%e0%b9%88/
LOCATION:เซ็นทรัล เชียงใหม่ แอร์พอร์ต\, QX9G+J4P ตำบลป่าแดด อำเภอเมืองเชียงใหม่ เชียงใหม่\, เมืองเชียงใหม่\, เชียงใหม่\, 50200\, Thailand
CATEGORIES:Concert & Music
ATTACH;FMTTYPE=image/jpeg:https://northernth.com/wp-content/uploads/2025/02/471166627_122188216748152718_2918522641208175251_n.webp
END:VEVENT
BEGIN:VEVENT
DTSTART;TZID=Asia/Krasnoyarsk:20250205T100000
DTEND;TZID=Asia/Krasnoyarsk:20250209T220000
DTSTAMP:20260421T202913
CREATED:20250202T090555Z
LAST-MODIFIED:20250202T135650Z
UID:3453-1738749600-1739138400@northernth.com
SUMMARY:Chiang Mai Crafts Week ครั้งที่ 9
DESCRIPTION:🎨✨ Chiang Mai Crafts Week ครั้งที่ 9 ✨🎨 \n📢 ชวนทุกคนมาสนุกกับงานคราฟต์สุดสร้างสรรค์! ไม่ว่าจะมาเดี่ยว มาเป็นคู่ หรือยกบ้านมาก็อบอุ่น ปลอดภัย และเต็มไปด้วยแรงบันดาลใจ 💖 \n. \n💡 เต็มอิ่มกับ 5 วันแห่งงานคราฟต์ระดับสุดยอด!\nพบกับผลงานคราฟต์สุดประณีตกว่า แสนชิ้น ที่ผ่านการคัดสรรจากยอดฝีมือของจริง พร้อมบูธงานคราฟต์กว่า 200++ บูธ และ 200++ เวิร์กช็อป ให้คุณได้ทดลองฝึกฝีมือกันแบบเต็มที่! \n  \n🛍 โซนกิจกรรมจัดเต็ม\n🎀 Craft & Workshop Zone – รวมร้านค้ากว่า 200 ร้าน งานดี งานสวย เพียบ!\n🎀 Slow Fashion: Trash to Treasure – ค้นพบเสน่ห์ของงานผ้า พร้อมเวิร์กช็อปและคลินิกให้คำปรึกษาจาก ครูดาว (Dao Ann Craft)\n🎀 So do ART x So do KIDs – โซนอาร์ตสุดสร้างสรรค์สำหรับทุกเพศทุกวัย นำโดย วันติส Artistaya Kannasoot\n🎀 LooLii หลูหลี – พื้นที่สำหรับคนรุ่นใหม่ ถ่ายทอดองค์ความรู้จากงานผ้าในรูปแบบร่วมสมัย\n🎀 Caffe in Space – รวมกาแฟ อาหาร และขนมอร่อย ๆ ให้คุณเติมพลัง อยู่กันยาว ๆ ได้ทั้งวัน \n  \n🌟 รับแรงบันดาลใจใหม่ ๆ พบปะคนรักงานคราฟต์ แลกเปลี่ยนไอเดียกับตัวจริงของวงการ 🌟 \n  \n📍 สถานที่จัดงาน: เชียงใหม่ฮอลล์ ศูนย์การค้าเซ็นทรัลเชียงใหม่ แอร์พอร์ต\n📅 วันที่: 5 – 9 กุมภาพันธ์ 2568\n📌 แผนที่: https://maps.app.goo.gl/w4mEwEbjpE3eWc657 \n  \n📲 สอบถามรายละเอียดเพิ่มเติม\n🔗 Line OA: @cmcw หรือ https://lin.ee/axq64WZ \n💬 มาใช้เวลาร่วมกันกับครอบครัวและเพื่อน ๆ พร้อมดื่มด่ำกับความงดงามของงานคราฟต์กันนะคะ! 💕 \n#CMCW #ChiangMaiCraftsWeek #Chiangmai #Crafts #Event #งานคราฟต์
URL:https://northernth.com/events/chiang-mai-crafts-week-%e0%b8%84%e0%b8%a3%e0%b8%b1%e0%b9%89%e0%b8%87%e0%b8%97%e0%b8%b5%e0%b9%88-9/
LOCATION:เซ็นทรัล เชียงใหม่ แอร์พอร์ต\, QX9G+J4P ตำบลป่าแดด อำเภอเมืองเชียงใหม่ เชียงใหม่\, เมืองเชียงใหม่\, เชียงใหม่\, 50200\, Thailand
CATEGORIES:Art & Culture,Food & Market,Workshop & Seminar
ATTACH;FMTTYPE=image/jpeg:https://northernth.com/wp-content/uploads/2025/02/466110793_878747047712778_5210558894027870689_n.webp
END:VEVENT
BEGIN:VEVENT
DTSTART;TZID=Asia/Krasnoyarsk:20250203T140000
DTEND;TZID=Asia/Krasnoyarsk:20250203T230000
DTSTAMP:20260421T202913
CREATED:20250202T084037Z
LAST-MODIFIED:20250202T135858Z
UID:3439-1738591200-1738623600@northernth.com
SUMMARY:WTF Music Festival at J Valley
DESCRIPTION:🎶 WTF Music Festival at J Valley – สัมผัสประสบการณ์ดนตรีสุดมันส์กลางขุนเขา ท่ามกลางสายลมหนาวและสายน้ำตก พร้อมโชว์พิเศษจากศิลปินชั้นนำของไทย ที่จะมอบความสนุกแบบที่คุณไม่เคยสัมผัสมาก่อน! \n🔥 ไลน์อัปศิลปินตัวท็อป ที่พร้อมมอบความมันส์จัดเต็ม: \n🎤 BODYSLAM | JEFF SATUR | SINGTO FEAT. KONG HUAYRAI | MEENTRA | BOWKYLION | KHIANKHAI LAE WANICH | ABOY | WIM | MEAN BAND \n. \n📅 วันที่จัดงาน: 3 กุมภาพันธ์ 2568 \n📍 สถานที่: J Valley Resort แลนด์มาร์กใหม่แห่งแม่ริม จ.เชียงใหม่ \n🎟️ ซื้อบัตรได้แล้ววันนี้ผ่าน 3 ช่องทาง \n1️⃣ THAITICKETMAJOR ทุกสาขา หรือกดซื้อออนไลน์ที่ ➡️ https://www.thaiticketmajor.com/…/wtf-music-festival.html \n2️⃣ Jaymart ภาคเหนือ ทั้ง 9 สาขา รวมถึง เซ็นทรัลเฟสติวัล เชียงใหม่\, เซ็นทรัล ลำปาง และบิ๊กซี ลำพูน \n3️⃣ J Valley Resort แม่ริม เชียงใหม่ \n. \n💳 สิทธิพิเศษสำหรับผู้ใช้ J WALLET \n✨ รับ Cashback 3% เมื่อชำระค่าบัตรผ่าน J WALLET \n✨ รับโบนัส ON TOP 10% เมื่อลงเงินเข้า Wristband เพื่อใช้จ่ายภายในงาน \n📌 รายละเอียดเพิ่มเติม: J Valley Resort Facebook \n#WTFMusicFestival #JVALLEY #WTFatJVALLEY #WTFCoffeeCamp \n[envira-gallery id=”3443″]
URL:https://northernth.com/events/wtf-music-festival-at-j-valley/
LOCATION:J VALLEY Resort\, 192 หมู่ 1 หมู่บ้านโป่ง แยงใน ตำบล โป่งแยง\, อำเภอแม่ริม\, เชียงใหม่\, 50180\, Thailand
CATEGORIES:Concert & Music
ATTACH;FMTTYPE=image/jpeg:https://northernth.com/wp-content/uploads/2025/02/475277036_609751715135599_6835676945997858672_n.webp
END:VEVENT
BEGIN:VEVENT
DTSTART;TZID=Asia/Krasnoyarsk:20250201T090000
DTEND;TZID=Asia/Krasnoyarsk:20250216T150000
DTSTAMP:20260421T202913
CREATED:20250202T073344Z
LAST-MODIFIED:20250202T140000Z
UID:3425-1738400400-1739718000@northernth.com
SUMMARY:โฮม บาย เกษียณมาร์เก็ต
DESCRIPTION:โฮม บาย เกษียณมาร์เก็ต \nกาด “โฮม” บาย เกษียนมาร์เก็ต “โฮม” ตลาดนัดสุดสัปดาห์ เพื่อคนทุกวัย นำทีมโดยผู้ขายวัยเกษียณ เตรียมพร้อมสร้างสรรคงามสุขให้ทุกคนในบ้าน . ต้อนรับเดือนแห่งความรัก และงานไม้ดอกไม้ประดับ ให้ทุกคนได้มาพักผ่อนหย่อนกาย เบิกบานหัวใจ. \n  \nพบกับสินค้ามากมาย ทั้งอาหารจานเด็ดกับรสมือที่คุ้นเคย ขนมหวานและเครื่องดื่มสุดใจฟู สินค้าแฮนด์เมด(ฮาร์ทเมด)ดีงาม ผักปลอดสารพิษ และสินค้าตกแต่งบ้านและสวนที่ไม่ควรพลาด นอกจากนี้เตรียมพบกับกิจกรรมให้ความรู้ เวทีเสวนา และกิจกรรมเวิร์คช็อป ที่ให้ทุกคนได้มาเสริมทักษะกันได้ที่นี่ . โฮม บาย เกษียณมาร์เก็ต ตลาดนัดสินค้าทำด้วยใจ เพื่อคนทุกวัยใน “บ้าน” \n  \nตลาดเปิดวันที่ 1-2 และ 15-16 กุมภาพันธ์ 2568เวลา: 09.00น. – 15.00น.สถานที่: ณ โอลด์ เชียงใหม่ (ศูนย์วัฒนธรรมฯ)Maps: https://goo.gl/maps/Qh4h5WrqUY6Ncy5A8
URL:https://northernth.com/events/%e0%b9%82%e0%b8%ae%e0%b8%a1-%e0%b8%9a%e0%b8%b2%e0%b8%a2-%e0%b9%80%e0%b8%81%e0%b8%a9%e0%b8%b5%e0%b8%a2%e0%b8%93%e0%b8%a1%e0%b8%b2%e0%b8%a3%e0%b9%8c%e0%b9%80%e0%b8%81%e0%b9%87%e0%b8%95/
LOCATION:ศูนย์วัฒนธรรมเชียงใหม่\, 185/3 ถนนวัวลาย ตำบลหายยา\, เมืองเชียงใหม่\, เชียงใหม่\, 50100\, Thailand
CATEGORIES:Food & Market,Workshop & Seminar
ATTACH;FMTTYPE=image/png:https://northernth.com/wp-content/uploads/2025/02/472001345_970079521819851_1978445690829193966_n.webp
END:VEVENT
END:VCALENDAR